BEGIN:VCALENDAR
VERSION:2.0
PRODID:-//Imperial College Chamber Choir - ECPv6.15.20//NONSGML v1.0//EN
CALSCALE:GREGORIAN
METHOD:PUBLISH
X-WR-CALNAME:Imperial College Chamber Choir
X-ORIGINAL-URL:https://icchamberchoir.org
X-WR-CALDESC:Events for Imperial College Chamber Choir
REFRESH-INTERVAL;VALUE=DURATION:PT1H
X-Robots-Tag:noindex
X-PUBLISHED-TTL:PT1H
BEGIN:VTIMEZONE
TZID:UTC
BEGIN:STANDARD
TZOFFSETFROM:+0000
TZOFFSETTO:+0000
TZNAME:UTC
DTSTART:20240101T000000
END:STANDARD
END:VTIMEZONE
BEGIN:VEVENT
DTSTART;TZID=UTC:20250922T190000
DTEND;TZID=UTC:20250925T190000
DTSTAMP:20260422T213420
CREATED:20250815T130443Z
LAST-MODIFIED:20250816T231917Z
UID:2476-1758567600-1758826800@icchamberchoir.org
SUMMARY:Summer Tour Concerts – Switzerland 2025
DESCRIPTION:This September ICCC will be going on our annual summer tour to Switzerland! \n\n\n\nCome join us at our free concerts in Zürich and Lugano at 19:00. \n\n\n\n\n\nMonday 22nd SeptemberPredigerkirche\, Zürich \n\n\n\nTuesday 23rd SeptemberAugustinerkirche\, Zürich \n\n\n\nThursday 25th SeptemberCattedrale di San Lorenzo\, Lugano
URL:https://icchamberchoir.org/event/summer-tour-concerts-switzerland-2025/
CATEGORIES:Concerts
ATTACH;FMTTYPE=image/jpeg:https://icchamberchoir.org/wp-content/uploads/2025/08/WhatsApp-Image-2025-08-15-at-17.05.37.jpeg
END:VEVENT
END:VCALENDAR